BEGIN:VCALENDAR
VERSION:2.0
PRODID:-//wp-events-plugin.com//7.2.3.1//EN
TZID:Europe/Brussels
X-WR-TIMEZONE:Europe/Brussels
BEGIN:VEVENT
UID:20@laaaaab.be
DTSTART;TZID=Europe/Brussels:20250512T180000
DTEND;TZID=Europe/Brussels:20250519T210000
DTSTAMP:20250401T090835Z
URL:https://www.laaaaab.be/events/initiation-a-la-serigraphie-4/
SUMMARY:Initiation à la sérigraphie #4
DESCRIPTION:\nCharlotte Langohr\n\nFacebook\n\n\nInstagram\n\n\nEn suivant 
 le cursus de graphisme à Saint-Luc en 2011\, qui comprenait des cours de 
 sérigraphie\, Charlotte a découvert les merveilles de cette technique o
 ù tout est rendu possible. Encres fluos\, blanches\, supports textiles\, 
 supports rigides\, ... Le travail de la matière et l'expérimentation de 
 nouvelles techniques la fascinent. Elle a ensuite improvisé un petit atel
 ier dans sa cave pour pouvoir s'y perdre et passer de l'écran d'ordinateu
 r à l'écran de séri pour son plaisir. Aujourd'hui\, un atelier partagé
  est mis sur pied\, et c'est tout naturellement qu'elle a sauté sur le pr
 ojet.\n\nDate : 12 et 19 mai 2025\nHoraire : de 18h à 21h\nContenu\nJour 
 1 : Découverte de la technique (théorie et pratique)\n\n 	Présentation 
 de la sérigraphie : Définition\, historique et applications (textiles\, 
 affiches\, objets) et exemples de créations sérigraphiées\n 	Matériel 
 de base : Cadres (écrans)\, émulsions photosensibles\, encres\, raclette
 s\, supports (papier\, textile). Présentation des différentes étapes du
  processus : création du visuel\, préparation de l’écran\, impression
 .\n 	Préparation de l’écran : Enduction de l’écran avec de l’ému
 lsion photosensible.\nInsolation : transfert du visuel sur l’écran à l
 ’aide d’une table lumineuse.\n 	Première impression : Initiation à l
 ’impression.\nUtilisation des racles pour appliquer l'encre.\nSéchage r
 apide des impressions.\n\nJour 2 : Projet libre encadré avec supports per
 sonnels\n\n 	Les participants apportent leurs propres supports (t-shirts\,
  sacs\, etc.) sur lesquels ils souhaitent imprimer. Choix du visuel et pr
 éparation en fonction des supports et du projet.\n 	Préparation des écr
 ans : Enduction\, insolation et nettoyage en fonction des designs du proje
 t.\n 	Impression sur les supports personnels. Gestion des particularités 
 techniques.\n 	Feedback et finalisation : Retour et conseils personnalisé
 s pour chaque participant sur les aspects techniques et créatifs.\n\nA pr
 endre avec soi :\n\nPour les 2 jours :\n\n 	Des vêtements à salir\n 	Vot
 re pique nique\n\nPour le 2ème jour :\n\n 	Vos supports à imprimer\n 	Vo
 tre projet sur papier à taille réelle\n 	Des feuilles de brouillons pour
  les tests de la grandeur du projet minimum.\n
ATTACH;FMTTYPE=image/jpeg:https://www.laaaaab.be/wp-content/uploads/2024/0
 2/DE3DD5F3-4363-4D69-A9FB-0D3D4755FB3C_1_105_c-copie.jpg
CATEGORIES:formation
END:VEVENT
BEGIN:VTIMEZONE
TZID:Europe/Brussels
X-LIC-LOCATION:Europe/Brussels
BEGIN:DAYLIGHT
DTSTART:20250330T030000
TZOFFSETFROM:+0100
TZOFFSETTO:+0200
TZNAME:CEST
END:DAYLIGHT
END:VTIMEZONE
END:VCALENDAR