BEGIN:VCALENDAR
VERSION:2.0
PRODID:-//wp-events-plugin.com//7.2.3.1//EN
TZID:Europe/Brussels
X-WR-TIMEZONE:Europe/Brussels
BEGIN:VEVENT
UID:5@laaaaab.be
DTSTART;TZID=Europe/Brussels:20250301T140000
DTEND;TZID=Europe/Brussels:20250308T140000
DTSTAMP:20250218T084658Z
URL:https://www.laaaaab.be/events/initiation-a-la-serigraphie/
SUMMARY:Initiation à la sérigraphie
DESCRIPTION:\n\nFacebook\n\n\nInstagram\n\n\nEn suivant le cursus de graphi
 sme à Saint-Luc en 2011\, qui comprenait des cours de sérigraphie\, Char
 lotte a découvert les merveilles de cette technique où tout est rendu po
 ssible. Encres fluos\, blanches\, supports textiles\, supports rigides\, 
 … Le travail de la matière et l’expérimentation de nouvelles techniq
 ues la fascinent. Elle a ensuite improvisé un petit atelier dans sa cave 
 pour pouvoir s’y perdre et passer de l’écran d’ordinateur à l’é
 cran de séri pour son plaisir. Aujourd’hui\, un atelier partagé est mi
 s sur pied\, et c’est tout naturellement qu’elle a sauté sur le proje
 t.\n\nJour 1 : Découverte de la technique (théorie et pratique)\n\n 	Pr
 ésentation de la sérigraphie : Définition\, historique et applications
  (textiles\, affiches\, objets) et exemples de créations sérigraphiées\
 n 	Matériel de base : Cadres (écrans)\, émulsions photosensibles\, enc
 res\, raclettes\, supports (papier\, textile). Présentation des différen
 tes étapes du processus : création du visuel\, préparation de l’écra
 n\, impression.\n 	Préparation de l’écran : Enduction de l’écran a
 vec de l’émulsion photosensible.\nInsolation : transfert du visuel sur 
 l’écran à l’aide d’une table lumineuse.\n 	Première impression :
  Initiation à l’impression.\nUtilisation des racles pour appliquer l’
 encre.\nSéchage rapide des impressions.\n\nJour 2 : Projet libre encadré
  avec supports personnels\n\n 	Les participants apportent leurs propres su
 pports (t-shirts\, sacs\, etc.) sur lesquels ils souhaitent imprimer. Cho
 ix du visuel et préparation en fonction des supports et du projet.\n 	Pr
 éparation des écrans : Enduction\, insolation et nettoyage en fonction 
 des designs du projet.\n 	Impression sur les supports personnels. Gestion 
 des particularités techniques.\n 	Feedback et finalisation : Retour et c
 onseils personnalisés pour chaque participant sur les aspects techniques 
 et créatifs.\n\nA prendre avec soi :\n\nPour les 2 jours :\n\n 	Des vêt
 ements à salir\n 	Votre pique nique\n\nPour le 2ème jour :\n\n 	Vos supp
 orts à imprimer\n 	Votre projet sur papier à taille réelle\n 	Des feuil
 les de brouillons pour les tests de la grandeur du projet minimum.\n
ATTACH;FMTTYPE=image/jpeg:https://www.laaaaab.be/wp-content/uploads/2024/0
 2/DE3DD5F3-4363-4D69-A9FB-0D3D4755FB3C_1_105_c-copie.jpg
CATEGORIES:formation
END:VEVENT
BEGIN:VTIMEZONE
TZID:Europe/Brussels
X-LIC-LOCATION:Europe/Brussels
BEGIN:STANDARD
DTSTART:20241027T020000
TZOFFSETFROM:+0200
TZOFFSETTO:+0100
TZNAME:CET
END:STANDARD
END:VTIMEZONE
END:VCALENDAR