BEGIN:VCALENDAR
VERSION:2.0
PRODID:-//wp-events-plugin.com//7.2.3.1//EN
TZID:Europe/Brussels
X-WR-TIMEZONE:Europe/Brussels
BEGIN:VEVENT
UID:14@laaaaab.be
DTSTART;TZID=Europe/Brussels:20250318T133000
DTEND;TZID=Europe/Brussels:20250318T153000
DTSTAMP:20250224T125418Z
URL:https://www.laaaaab.be/events/une-ceinture-culturelle-pour-larrondisse
 ment-de-verviers/
SUMMARY:Une ceinture culturelle pour l'arrondissement de Verviers
DESCRIPTION:															\n		Une Ceinture Culturelle pour l’Arrondissem
 ent de Verviers Les acteurs culturels de l’arrondissement de Verviers s
 ’unissent pour former une Ceinture culturelle. Celle-ci se veut une rép
 onse collective aux défis rencontrés par chacun pour collaborer davantag
 e et se soutenir mutuellement. Pourquoi cette initiative ? La Ceinture
  culturelle organise l’information afin de rendre les activités culture
 lles plus accessibles et valorise la création artistique\, la diversité 
 culturelle et l’éducation permanente. En combinant nos énergies\, nos 
 expériences et nos ressources\, nous pouvons nous développer davantage p
 our nos publics\, renforcer nos compétences et notre impact collectif. P
 our quoi faire ? Voici quelques priorités identifiées par le groupe p
 orteur : Créer un agenda interne entre organisateurs : pour avoir ra
 pidement un aperçu des événements à venir\, éviter les doublons et an
 noncer les initiatives encore en gestation. Établir un agenda commun pou
 r le public : rendre l’offre culturelle plus visible et accessible le
 s aider à se faire connaître et toucher des publics diversifiés. Mutua
 liser des ressources immatérielles : des idées\, des financements\, et d
 es bonnes pratiques. Mutualiser des ressources matérielles : des lieux\,
  du matériel (sono\, tables\, chaises\, ...)\, Organiser des événement
 s communs (festivals\, rencontres\, publications\, etc.) Favoriser la c
 réation de liens : entre organisateurs\, habitants et publics divers. 
 Soutenir les acteurs culturels : plaider en faveur des structures cultur
 elles de plus petite envergure\, en relayant leurs besoins et en défendan
 t leurs intérêts. Mais ce ne sont que des idées initiales ! Nous som
 mes ouverts à toutes les propositions.   Pour qui ? Pour tous les 
 acteurs culturels de l’arrondissement de Verviers. Comment travailler e
 nsemble ? Nous souhaitons fonctionner de manière horizontale pour favo
 riser la coopération et l’expression libre de chaque acteur.  Rejoig
 nez-nous ! Vous êtes acteur culturel ? Vous avez envie de collaborer e
 t d’échanger avec d’autres acteurs ? Contactez-nous pour rejoindre 
 cette aventure ! A l'initiative de cette démarche : Les Temps Mêlés\
 , la Fabrique Sainte-Julienne\, De Bouche à Oreille\, la Maison de l’Im
 aginaire\, le Pavillon du Wayai\, CitéCultures\, le Comité culturel Sain
 t Remacle\, les Equipes populaires\, le Comptoir des Ressources Créatives
  de Verviers. 
ATTACH;FMTTYPE=image/jpeg:https://www.laaaaab.be/wp-content/uploads/2025/0
 2/IMG_1190-copie.jpg
CATEGORIES:Rencontre
END:VEVENT
BEGIN:VTIMEZONE
TZID:Europe/Brussels
X-LIC-LOCATION:Europe/Brussels
BEGIN:STANDARD
DTSTART:20241027T020000
TZOFFSETFROM:+0200
TZOFFSETTO:+0100
TZNAME:CET
END:STANDARD
END:VTIMEZONE
END:VCALENDAR